BEGIN:VCALENDAR
VERSION:2.0
PRODID:-//Beyond and Above Corporate Aviation Training - ECPv6.15.20//NONSGML v1.0//EN
CALSCALE:GREGORIAN
METHOD:PUBLISH
X-WR-CALNAME:Beyond and Above Corporate Aviation Training
X-ORIGINAL-URL:https://beyondandabove.net
X-WR-CALDESC:Events for Beyond and Above Corporate Aviation Training
REFRESH-INTERVAL;VALUE=DURATION:PT1H
X-Robots-Tag:noindex
X-PUBLISHED-TTL:PT1H
BEGIN:VTIMEZONE
TZID:America/New_York
BEGIN:DAYLIGHT
TZOFFSETFROM:-0500
TZOFFSETTO:-0400
TZNAME:EDT
DTSTART:20240310T070000
END:DAYLIGHT
BEGIN:STANDARD
TZOFFSETFROM:-0400
TZOFFSETTO:-0500
TZNAME:EST
DTSTART:20241103T060000
END:STANDARD
BEGIN:DAYLIGHT
TZOFFSETFROM:-0500
TZOFFSETTO:-0400
TZNAME:EDT
DTSTART:20250309T070000
END:DAYLIGHT
BEGIN:STANDARD
TZOFFSETFROM:-0400
TZOFFSETTO:-0500
TZNAME:EST
DTSTART:20251102T060000
END:STANDARD
BEGIN:DAYLIGHT
TZOFFSETFROM:-0500
TZOFFSETTO:-0400
TZNAME:EDT
DTSTART:20260308T070000
END:DAYLIGHT
BEGIN:STANDARD
TZOFFSETFROM:-0400
TZOFFSETTO:-0500
TZNAME:EST
DTSTART:20261101T060000
END:STANDARD
END:VTIMEZONE
BEGIN:VEVENT
DTSTART;TZID=America/New_York:20250204T210000
DTEND;TZID=America/New_York:20250209T170000
DTSTAMP:20260421T072748
CREATED:20250116T003316Z
LAST-MODIFIED:20250206T112638Z
UID:25433-1738702800-1739120400@beyondandabove.net
SUMMARY:Initial Corporate Flight Attendant Training February 2025
DESCRIPTION:Initial Training-Corporate Flight Attendant \n \nCall Mary Lou to reserve at (954) 609-5600!\nSpace Is Very Limited\, So Register Early before Deadline! Must be registered by 5 days prior to class start. \nMax Class Size is 12.
URL:https://beyondandabove.net/event/complete-corporate-flight-attendant-training/
LOCATION:Headquarters\, 2011 South Perimeter Rd. Suite D & E\, Fort Lauderdale\, FL\, 33309\, United States
CATEGORIES:Training Classes
ATTACH;FMTTYPE=image/png:https://beyondandabove.net/wp-content/uploads/friends-Promo-Facebook-Post-gold-background.png
ORGANIZER;CN="Beyond and Above":MAILTO:marylou@beyondandabove.net
END:VEVENT
END:VCALENDAR